BEGIN:VCALENDAR
VERSION:2.0
PRODID:icalendar-ruby
CALSCALE:GREGORIAN
METHOD:PUBLISH
BEGIN:VEVENT
DTSTAMP:20260420T141427Z
UID:48-406373@prairiebaptist.org
DTSTART:20260516T160000Z
DTEND:20260517T050000Z
CLASS:PUBLIC
CREATED:20260415T112211
DESCRIPTION:The Young Families and Friends will be taking the children on a
  fishing fun expedition. This will be a chance for our children to fish fo
 r the first time. \nLocation TBD and more information on the Group Me soo
 n!
LAST-MODIFIED:20260415T112211
LOCATION:TBD
SUMMARY:PBYF&F Fishing Fun
URL;VALUE=URI:https://www.prairiebaptist.org/events/pbyf-f-fishing-fun/2026
 -05-16
ATTACH;FILENAME=Fishing-Day.jpg;FMTTYPE=image/jpeg:https://dq5pwpg1q8ru0.cl
 oudfront.net/2026/04/15/16/22/11/730b0af4-4bfd-440c-b3a9-bbec830a3067/Fish
 ing-Day.jpg
END:VEVENT
END:VCALENDAR
